BEGIN:VCALENDAR
VERSION:2.0
PRODID:-//Wedding DJ VT - ECPv6.15.20//NONSGML v1.0//EN
CALSCALE:GREGORIAN
METHOD:PUBLISH
X-ORIGINAL-URL:https://www.weddingdjvt.com
X-WR-CALDESC:Events for Wedding DJ VT
REFRESH-INTERVAL;VALUE=DURATION:PT1H
X-Robots-Tag:noindex
X-PUBLISHED-TTL:PT1H
BEGIN:VTIMEZONE
TZID:America/New_York
BEGIN:DAYLIGHT
TZOFFSETFROM:-0500
TZOFFSETTO:-0400
TZNAME:EDT
DTSTART:20180311T070000
END:DAYLIGHT
BEGIN:STANDARD
TZOFFSETFROM:-0400
TZOFFSETTO:-0500
TZNAME:EST
DTSTART:20181104T060000
END:STANDARD
BEGIN:DAYLIGHT
TZOFFSETFROM:-0500
TZOFFSETTO:-0400
TZNAME:EDT
DTSTART:20190310T070000
END:DAYLIGHT
BEGIN:STANDARD
TZOFFSETFROM:-0400
TZOFFSETTO:-0500
TZNAME:EST
DTSTART:20191103T060000
END:STANDARD
BEGIN:DAYLIGHT
TZOFFSETFROM:-0500
TZOFFSETTO:-0400
TZNAME:EDT
DTSTART:20200308T070000
END:DAYLIGHT
BEGIN:STANDARD
TZOFFSETFROM:-0400
TZOFFSETTO:-0500
TZNAME:EST
DTSTART:20201101T060000
END:STANDARD
END:VTIMEZONE
BEGIN:VEVENT
DTSTART;VALUE=DATE:20190831
DTEND;VALUE=DATE:20190901
DTSTAMP:20260425T115002
CREATED:20181117T231756Z
LAST-MODIFIED:20190305T032828Z
UID:1767-1567209600-1567295999@www.weddingdjvt.com
SUMMARY:LeBon Wedding
DESCRIPTION:
URL:https://www.weddingdjvt.com/event/lebon-wedding/
LOCATION:Lareau Farm Inn\, 48 Lareau Rd\, Waitsfield\, VT 05673\, USA\, 2 Lareau Rd\, United States
CATEGORIES:Evan LeCompte Weddings
END:VEVENT
BEGIN:VEVENT
DTSTART;VALUE=DATE:20190831
DTEND;VALUE=DATE:20190901
DTSTAMP:20260425T115002
CREATED:20190124T194007Z
LAST-MODIFIED:20190517T195524Z
UID:2365-1567209600-1567295999@www.weddingdjvt.com
SUMMARY:Bird Wedding
DESCRIPTION:
URL:https://www.weddingdjvt.com/event/bird-wedding/
LOCATION:Topnotch Resort\, 4000 Mountain Resort\, Stowe\, VT 05672\, USA\, 2 Mountain Rd\, United States
CATEGORIES:Jason Baron Weddings
END:VEVENT
BEGIN:VEVENT
DTSTART;VALUE=DATE:20190901
DTEND;VALUE=DATE:20190902
DTSTAMP:20260425T115002
CREATED:20181128T045714Z
LAST-MODIFIED:20190305T032828Z
UID:1865-1567296000-1567382399@www.weddingdjvt.com
SUMMARY:Kopin Wedding
DESCRIPTION:
URL:https://www.weddingdjvt.com/event/kopin-wedding/
LOCATION:Sugarbush Resort\, 1840 Sugarbush Access Rd\, Warren\, VT 05674\, USA\, 2 Sugarbush Access Rd\, United States
CATEGORIES:Evan LeCompte Weddings
END:VEVENT
BEGIN:VEVENT
DTSTART;VALUE=DATE:20190907
DTEND;VALUE=DATE:20190908
DTSTAMP:20260425T115002
CREATED:20181025T165518Z
LAST-MODIFIED:20190305T032828Z
UID:1668-1567814400-1567900799@www.weddingdjvt.com
SUMMARY:Murphy Wedding
DESCRIPTION:
URL:https://www.weddingdjvt.com/event/murphy-wedding/
LOCATION:Equinox Resort\, Manchester\, VT 05255\, USA\, 2 E Manchester Rd\, United States
CATEGORIES:Evan LeCompte Weddings
END:VEVENT
BEGIN:VEVENT
DTSTART;VALUE=DATE:20190907
DTEND;VALUE=DATE:20190908
DTSTAMP:20260425T115002
CREATED:20181113T193150Z
LAST-MODIFIED:20190517T181511Z
UID:1725-1567814400-1567900799@www.weddingdjvt.com
SUMMARY:Huff Wedding
DESCRIPTION:
URL:https://www.weddingdjvt.com/event/huff-wedding/
LOCATION:Fairfax\, VT\, USA
CATEGORIES:Dan Cahill Weddings
END:VEVENT
BEGIN:VEVENT
DTSTART;VALUE=DATE:20190907
DTEND;VALUE=DATE:20190908
DTSTAMP:20260425T115002
CREATED:20181128T223109Z
LAST-MODIFIED:20190517T190402Z
UID:1871-1567814400-1567900799@www.weddingdjvt.com
SUMMARY:Sartorelli Wedding
DESCRIPTION:
URL:https://www.weddingdjvt.com/event/sartorelli-wedding/
LOCATION:The Inn at the Round Barn Farm\, 1661 E Warren Rd\, Waitsfield\, VT 05673\, USA\, United States
CATEGORIES:Randall Russell Weddings
END:VEVENT
BEGIN:VEVENT
DTSTART;VALUE=DATE:20190907
DTEND;VALUE=DATE:20190908
DTSTAMP:20260425T115002
CREATED:20190330T052013Z
LAST-MODIFIED:20190517T175753Z
UID:2928-1567814400-1567900799@www.weddingdjvt.com
SUMMARY:Snider Wedding
DESCRIPTION:
URL:https://www.weddingdjvt.com/event/snider-wedding/
LOCATION:The Quechee Inn at Marshland Farm\, 1119 Quechee Main St\, Quechee\, VT 05059\, USA\, United States
CATEGORIES:Josh Kerman Weddings
END:VEVENT
BEGIN:VEVENT
DTSTART;VALUE=DATE:20190914
DTEND;VALUE=DATE:20190915
DTSTAMP:20260425T115002
CREATED:20181005T012141Z
LAST-MODIFIED:20190305T032828Z
UID:1615-1568419200-1568505599@www.weddingdjvt.com
SUMMARY:Canning Wedding
DESCRIPTION:
URL:https://www.weddingdjvt.com/event/canning-wedding/
LOCATION:Bread & Butter Farm\, 200 Leduc Farm Road\, Shelburne\, VT 05482\, USA\, United States
CATEGORIES:Evan LeCompte Weddings
END:VEVENT
BEGIN:VEVENT
DTSTART;VALUE=DATE:20190914
DTEND;VALUE=DATE:20190915
DTSTAMP:20260425T115002
CREATED:20181005T012141Z
LAST-MODIFIED:20181005T012141Z
UID:1616-1568419200-1568505599@www.weddingdjvt.com
SUMMARY:Canning Wedding
DESCRIPTION:
URL:https://www.weddingdjvt.com/event/canning-wedding-2/
LOCATION:Bread & Butter Farm\, 200 Leduc Farm Road\, Shelburne\, VT 05482\, USA\, United States
CATEGORIES:Evan LeCompte Weddings
END:VEVENT
BEGIN:VEVENT
DTSTART;VALUE=DATE:20190914
DTEND;VALUE=DATE:20190915
DTSTAMP:20260425T115002
CREATED:20181113T193150Z
LAST-MODIFIED:20190517T181511Z
UID:1727-1568419200-1568505599@www.weddingdjvt.com
SUMMARY:Young Wedding
DESCRIPTION:
URL:https://www.weddingdjvt.com/event/young-wedding/
LOCATION:The Lilac Inn\, 53 Park St\, Brandon\, VT 05733\, USA\, 2 Park St\, United States
CATEGORIES:Dan Cahill Weddings
END:VEVENT
BEGIN:VEVENT
DTSTART;VALUE=DATE:20190914
DTEND;VALUE=DATE:20190915
DTSTAMP:20260425T115002
CREATED:20190111T155143Z
LAST-MODIFIED:20190517T195524Z
UID:2247-1568419200-1568505599@www.weddingdjvt.com
SUMMARY:Gray Wedding
DESCRIPTION:
URL:https://www.weddingdjvt.com/event/gray-wedding/
LOCATION:Boyden Valley Winery & Spirits\, 64 VT-104\, Cambridge\, VT 05444\, USA\, United States
CATEGORIES:Jason Baron Weddings
END:VEVENT
BEGIN:VEVENT
DTSTART;VALUE=DATE:20190914
DTEND;VALUE=DATE:20190915
DTSTAMP:20260425T115002
CREATED:20190320T085157Z
LAST-MODIFIED:20190517T190402Z
UID:2853-1568419200-1568505599@www.weddingdjvt.com
SUMMARY:Lambros Wedding
DESCRIPTION:
URL:https://www.weddingdjvt.com/event/lambros-wedding/
LOCATION:Salisbury\, VT 05769\, USA\, United States
CATEGORIES:Randall Russell Weddings
END:VEVENT
BEGIN:VEVENT
DTSTART;VALUE=DATE:20190921
DTEND;VALUE=DATE:20190922
DTSTAMP:20260425T115002
CREATED:20180831T185358Z
LAST-MODIFIED:20190305T032828Z
UID:1548-1569024000-1569110399@www.weddingdjvt.com
SUMMARY:Smith Wedding
DESCRIPTION:
URL:https://www.weddingdjvt.com/event/smith-wedding/
LOCATION:Skinner Barn\, 609 Common Rd\, Waitsfield\, VT 05673\, USA\, 1 Common Rd\, United States
CATEGORIES:Evan LeCompte Weddings
END:VEVENT
BEGIN:VEVENT
DTSTART;VALUE=DATE:20190921
DTEND;VALUE=DATE:20190922
DTSTAMP:20260425T115002
CREATED:20190105T155748Z
LAST-MODIFIED:20190517T181512Z
UID:2193-1569024000-1569110399@www.weddingdjvt.com
SUMMARY:FitzpatrickWedding
DESCRIPTION:
URL:https://www.weddingdjvt.com/event/fitzpatrickwedding/
LOCATION:equinox hotel\, 3567 Main St\, Manchester\, VT 05254\, USA\, 2449 Main St\, United States
CATEGORIES:Dan Cahill Weddings
END:VEVENT
BEGIN:VEVENT
DTSTART;VALUE=DATE:20190921
DTEND;VALUE=DATE:20190922
DTSTAMP:20260425T115002
CREATED:20190122T183831Z
LAST-MODIFIED:20190517T195525Z
UID:2344-1569024000-1569110399@www.weddingdjvt.com
SUMMARY:Goldbach Wedding
DESCRIPTION:
URL:https://www.weddingdjvt.com/event/goldbach-wedding/
LOCATION:Topnotch Resort\, 4000 Mountain Resort\, Stowe\, VT 05672\, USA\, 2 Mountain Rd\, United States
CATEGORIES:Jason Baron Weddings
END:VEVENT
BEGIN:VEVENT
DTSTART;VALUE=DATE:20190921
DTEND;VALUE=DATE:20190922
DTSTAMP:20260425T115002
CREATED:20190130T112924Z
LAST-MODIFIED:20190517T175753Z
UID:2424-1569024000-1569110399@www.weddingdjvt.com
SUMMARY:James Wedding
DESCRIPTION:
URL:https://www.weddingdjvt.com/event/james-wedding/
LOCATION:The Lilac Inn\, 53 Park St\, Brandon\, VT 05733\, USA\, 2 Park St\, United States
CATEGORIES:Josh Kerman Weddings
END:VEVENT
BEGIN:VEVENT
DTSTART;VALUE=DATE:20190928
DTEND;VALUE=DATE:20190929
DTSTAMP:20260425T115002
CREATED:20181128T045715Z
LAST-MODIFIED:20190305T032829Z
UID:1866-1569628800-1569715199@www.weddingdjvt.com
SUMMARY:Tobin Wedding
DESCRIPTION:
URL:https://www.weddingdjvt.com/event/tobin-wedding/
LOCATION:The Lilac Inn\, 53 Park St\, Brandon\, VT 05733\, USA\, 2 Park St\, United States
CATEGORIES:Evan LeCompte Weddings
END:VEVENT
BEGIN:VEVENT
DTSTART;VALUE=DATE:20190928
DTEND;VALUE=DATE:20190929
DTSTAMP:20260425T115002
CREATED:20181204T232339Z
LAST-MODIFIED:20190517T181512Z
UID:1923-1569628800-1569715199@www.weddingdjvt.com
SUMMARY:Kost Wedding
DESCRIPTION:
URL:https://www.weddingdjvt.com/event/kost-wedding/
LOCATION:Mount Snow\, Mt Snow\, Somerset\, VT 05356\, USA\, 2 Meadow Rd\, United States
CATEGORIES:Dan Cahill Weddings
END:VEVENT
BEGIN:VEVENT
DTSTART;VALUE=DATE:20190928
DTEND;VALUE=DATE:20190929
DTSTAMP:20260425T115002
CREATED:20190124T194008Z
LAST-MODIFIED:20190517T195525Z
UID:2366-1569628800-1569715199@www.weddingdjvt.com
SUMMARY:Glickman Wedding
DESCRIPTION:
URL:https://www.weddingdjvt.com/event/glickman-wedding/
LOCATION:The Trailside Inn\, 115 Coffeehouse Rd\, Killington\, VT 05751\, USA\, 2 Trailside Dr\, United States
CATEGORIES:Jason Baron Weddings
END:VEVENT
BEGIN:VEVENT
DTSTART;VALUE=DATE:20190928
DTEND;VALUE=DATE:20190929
DTSTAMP:20260425T115002
CREATED:20190208T154125Z
LAST-MODIFIED:20190517T190403Z
UID:2504-1569628800-1569715199@www.weddingdjvt.com
SUMMARY:Pousland Wedding
DESCRIPTION:
URL:https://www.weddingdjvt.com/event/pousland-wedding/
LOCATION:Tourterelle Restaurant & Inn\, 3629 Ethan Allen Hwy\, New Haven\, VT 05472\, USA\, United States
CATEGORIES:Randall Russell Weddings
END:VEVENT
END:VCALENDAR